BEGIN:VCALENDAR
VERSION:2.0
PRODID:-//eventon.com NONSGML v1.0//EN
CALSCALE:GREGORIAN
METHOD:PUBLISH
BEGIN:VEVENT
UID:69e895c745a19
DTSTAMP:20260422T093255Z
DTSTART:20200525
DTEND:20200526
LOCATION:Galerija „Lazar Vozarević” Gradski park 4\,  Sremska Mitrovica 321042
SUMMARY:„Decembarska grupa”
DESCRIPTION:Sremska Mitrovica &#8211; Galerija Lazar Vozarević nastavlja i
 zložbenu sezonu izložbom &#8220;DECEMBARSKA GRUPA&#8221; MUZEJA ZEPTER. G
 alerija je otvorena svakog radnog dana od 8 do 13 sati.\nhttps://sirmiuminf
 o.rs/events/decembarska-grupa/
URL:https://sirmiuminfo.rs/events/decembarska-grupa/
END:VEVENT
END:VCALENDAR