BEGIN:VCALENDAR
VERSION:2.0
PRODID:-//eventon.com NONSGML v1.0//EN
CALSCALE:GREGORIAN
METHOD:PUBLISH
BEGIN:VEVENT
UID:69e8efdebd84e
DTSTAMP:20260422T155718Z
DTSTART:20200229T180000Z
DTEND:20200229T193000Z
LOCATION:Galerija „Lazar Vozarević” Gradski park 4\,  Sremska Mitrovica 321042
SUMMARY:Projekcija filma The Game Changers
DESCRIPTION:Sremska Mitrovica &#8211; U subotu 29. februara u „Galeriji L
 azar Vozarević” u 19 sati održaće se projekcija filma „The Game Chan
 gers”. Jedan od producenata je i Novak Đoković. Film je edukativne prir
 ode\,  ruši stereotipe i predrasude o biljnoj ishrani i prikazuje lične p
 rimere mnogih uspešnih sportista na biljnoj ishrani. Film[..]\nhttps://sir
 miuminfo.rs/events/projekcija-filma-the-game-changers/
URL:https://sirmiuminfo.rs/events/projekcija-filma-the-game-changers/
END:VEVENT
END:VCALENDAR