BEGIN:VCALENDAR
VERSION:2.0
PRODID:-//eventon.com NONSGML v1.0//EN
CALSCALE:GREGORIAN
METHOD:PUBLISH
BEGIN:VEVENT
UID:69e9983bbd17b
DTSTAMP:20260423T035539Z
DTSTART:20260423T170000Z
DTEND:20260423T180000Z
LOCATION:
SUMMARY:Promocija knjige „U ime ljubavi”
DESCRIPTION:U saradnji sa Književnom zajednicom Sremska Mitrovica u četvr
 atk 23. aprila u 19 sati u Biblioteci „Gligorije Vozarović”biće preds
 tavljena zbirka poezije „U ime ljubavi” autorke Slađane Živković. O 
 knjizi će\,  osim autorke\,  govoriti Mirjana Marković\,  predsednik Knji
 ževne zajednice Sremska Mitrovica. Stihove će čitati Jasna Arbanas\,  do
 k će u muzičkom delu[..]\nhttps://sirmiuminfo.rs/events/promocija-knjige-
 u-ime-ljubavi/
URL:https://sirmiuminfo.rs/events/promocija-knjige-u-ime-ljubavi/
END:VEVENT
END:VCALENDAR