BEGIN:VCALENDAR
VERSION:2.0
PRODID:-//eventon.com NONSGML v1.0//EN
CALSCALE:GREGORIAN
METHOD:PUBLISH
BEGIN:VEVENT
UID:69e795b590814
DTSTAMP:20260421T152021Z
DTSTART:20260425T070000Z
DTEND:20260425T130000Z
LOCATION:
SUMMARY:Dan magarica
DESCRIPTION:U nedelju\,  25. aprila\,  u Vizitorskom centru Specijalnog rez
 ervata prirode „Bara Zasavica” održaće se manifestacija &#8211; XVIII
  DAN MAGARICA. Kako kažu u Rezervatu\,  to je „svečanost u slavu ove di
 vne i korisne životinje”. Program susreta: 9 &#8211; 10 sati &#8211; oku
 pljanje posetilaca i gostiju i početak takmičenja u spravljanju paprikaš
 a[..]\nhttps://sirmiuminfo.rs/events/dan-magarica-5/
URL:https://sirmiuminfo.rs/events/dan-magarica-5/
END:VEVENT
END:VCALENDAR