BEGIN:VCALENDAR
VERSION:2.0
PRODID:-//eventon.com NONSGML v1.0//EN
CALSCALE:GREGORIAN
METHOD:PUBLISH
BEGIN:VEVENT
UID:69e7a3b0e4d55
DTSTAMP:20260421T162000Z
DTSTART:20260422T160000Z
DTEND:20260422T170000Z
LOCATION:
SUMMARY:Promocije „Azbukvara”
DESCRIPTION:Biblioteka „Gligorije Vozarović”&nbsp; organizuje promocij
 u „Azbukvara” autora Jovice Panića koja će biti održana u sredu\,  2
 2. marta sa početkom&nbsp; u 18 sati\,  u Čitaonici Biblioteke. „Azbukv
 ar” je namenjen deci&nbsp; predškolskog uzrasta\,  sa ciljem da kroz igr
 u i ilustracije olakša&nbsp; usvajanje prvih slova i podstakne želju dete
 ta da samostalno piše.\nhttps://sirmiuminfo.rs/events/promocije-azbukvara/
URL:https://sirmiuminfo.rs/events/promocije-azbukvara/
END:VEVENT
END:VCALENDAR