BEGIN:VCALENDAR
VERSION:2.0
PRODID:-//eventon.com NONSGML v1.0//EN
CALSCALE:GREGORIAN
METHOD:PUBLISH
BEGIN:VEVENT
UID:69e4d0e1a991b
DTSTAMP:20260419T125601Z
DTSTART:20251114T180000Z
DTEND:20251114T193000Z
LOCATION:
SUMMARY:Koncert „Osu se nebo zvezdama” Folklornog ansambla „Branko Radičević”
DESCRIPTION:Ustanova za negovanje kulture „Srem” organizuje Koncert Osu
  se nebo zvezdama Folklornog ansambla „Branko Radičević”. On će se o
 držati u Ravnju 14. novembra u sali Doma kulture sa početkom u 19 sati. O
 vaj Koncert je jedan u nizu takvih događaja\,  koji će biti realizovani p
 o selima\,  a povodom šezdeset godina[..]\nhttps://sirmiuminfo.rs/events/k
 oncert-osu-se-nebo-zvezdama-folklornog-ansambla-branko-radicevic/
URL:https://sirmiuminfo.rs/events/koncert-osu-se-nebo-zvezdama-folklornog-ansambla-branko-radicevic/
END:VEVENT
END:VCALENDAR