BEGIN:VCALENDAR
VERSION:2.0
PRODID:-//eventon.com NONSGML v1.0//EN
CALSCALE:GREGORIAN
METHOD:PUBLISH
BEGIN:VEVENT
UID:69e4c18b1ad82
DTSTAMP:20260419T115035Z
DTSTART:20241109T120000Z
DTEND:20241109T134500Z
LOCATION:
SUMMARY:U susret sremskom derbiju Inđija - Radnički
DESCRIPTION:U subotu 9. novembra 2024. godine sa početkom u 13 sati u Inđ
 iji&nbsp; igra se prvenstvena utakmica 15. kola Prve lige Srbije u fudbalu.
  Sastaju se dva sremska kluba\,  domaćin Inđija i gosti Radnički iz srem
 skomitrovačkog naselja Hesna. Navijači Radničkog organizovano odlaze na 
 utakmicu u Inđiju da pruže podršku svom[..]\nhttps://sirmiuminfo.rs/even
 ts/u-susret-sremskom-derbiju-indija-radnicki/
URL:https://sirmiuminfo.rs/events/u-susret-sremskom-derbiju-indija-radnicki/
END:VEVENT
END:VCALENDAR