BEGIN:VCALENDAR
VERSION:2.0
PRODID:-//eventon.com NONSGML v1.0//EN
CALSCALE:GREGORIAN
METHOD:PUBLISH
BEGIN:VEVENT
UID:69e4c1e1bdde7
DTSTAMP:20260419T115201Z
DTSTART:20240913T083000Z
DTEND:20240913T120000Z
LOCATION:
SUMMARY:Fudbalski turnir osuđenih lica u Kazneno popravnom zavodu
DESCRIPTION:U Kazneno-popravnom zavodu u Sremskoj Mitrovici u petak\,  13. 
 septembra 2024. godineu 10.30 časova biće organizovan fudbalski turnir na
  kome učestvuju osuđenici ovog zavoda\,  kao i bivša osuđena lica iz Ne
 mačke\,  Holandije\,  Norveške\,  Velike Britanije i Irske koji su bili d
 eo ovog projekta tokom izdržavanja zatvorske kazne u svojim zemljama.\nhtt
 ps://sirmiuminfo.rs/events/fudbalski-turnir-osudenih-lica-u-kazneno-popravn
 om-zavodu/
URL:https://sirmiuminfo.rs/events/fudbalski-turnir-osudenih-lica-u-kazneno-popravnom-zavodu/
END:VEVENT
END:VCALENDAR