BEGIN:VCALENDAR
VERSION:2.0
PRODID:-//eventon.com NONSGML v1.0//EN
CALSCALE:GREGORIAN
METHOD:PUBLISH
BEGIN:VEVENT
UID:69e9072390b27
DTSTAMP:20260422T173635Z
DTSTART:20240723T183000Z
DTEND:20240723T193000Z
LOCATION:
SUMMARY:Svetoarhangelske svečanosti „Etno Fest Laćarak 2024”
DESCRIPTION:U Laćarku je u toku manifestacija Svetoarhangelske svečanosti
  Etno Fest Laćarak 2024. koju organizuje Mesna zajednica Laćarak.&nbsp;\n
 https://sirmiuminfo.rs/events/svetoarhangelske-svecanosti-etno-fest-lacarak
 -2024/
URL:https://sirmiuminfo.rs/events/svetoarhangelske-svecanosti-etno-fest-lacarak-2024/
END:VEVENT
END:VCALENDAR