BEGIN:VCALENDAR
VERSION:2.0
PRODID:-//eventon.com NONSGML v1.0//EN
CALSCALE:GREGORIAN
METHOD:PUBLISH
BEGIN:VEVENT
UID:69e559f9c4bcc
DTSTAMP:20260419T224057Z
DTSTART:20240518T090000Z
DTEND:20240518T110000Z
LOCATION:
SUMMARY:Radionice za decu u Muzeju Srema
DESCRIPTION:U subotu\,  18. maja\,  Muzej Srema organizuje Dečju likovnu r
 adionicu\,  namenjenu deci uzrasta od četiri do sedam godina\,  u terminu 
 od 11 do 12 sati. Druga radionica je namenjena deci uzrasta od sedam do 11 
 godina\,  u terminu od 12 do 13 sati. Teme radionica su: „Moj grad u pro
 losti”[..]\nhttps://sirmiuminfo.rs/events/radionice-za-decu-u-muzeju-sre
 ma-2/
URL:https://sirmiuminfo.rs/events/radionice-za-decu-u-muzeju-srema-2/
END:VEVENT
END:VCALENDAR