BEGIN:VCALENDAR
VERSION:2.0
PRODID:-//eventon.com NONSGML v1.0//EN
CALSCALE:GREGORIAN
METHOD:PUBLISH
BEGIN:VEVENT
UID:69e8d9b9baa15
DTSTAMP:20260422T142249Z
DTSTART:20240510T170000Z
DTEND:20240510T180000Z
LOCATION:
SUMMARY:Promocija knjige Neotkrivena zemlja
DESCRIPTION:Otkrivati neotkriveno je čest motiv koji pojedinca usmerava da
  traga\,  stvara\,  ispoljava se i kroz različite stvaralačke produkte ko
 municira sa drugima. Jedan od načina je i pisana reč. U pomenutom se već
  dugi niz godina uspešno potvrđuje naša sugrađanka Tatjana Milivojčevi
 ć\,  čija su književna dela zastupljena u mnogim zbirkama i[..]\nhttps:/
 /sirmiuminfo.rs/events/promocija-knjige-neotkrivena-zemlja/
URL:https://sirmiuminfo.rs/events/promocija-knjige-neotkrivena-zemlja/
END:VEVENT
END:VCALENDAR