BEGIN:VCALENDAR
VERSION:2.0
PRODID:-//eventon.com NONSGML v1.0//EN
CALSCALE:GREGORIAN
METHOD:PUBLISH
BEGIN:VEVENT
UID:69e4c18b1d3af
DTSTAMP:20260419T115035Z
DTSTART:20231222T180000Z
DTEND:20231222T193000Z
LOCATION:
SUMMARY:Godišnji koncert Folkornog ansambla Branko Radičević
DESCRIPTION:Godišnji koncert\,  pod nazivom „Zelen krevet k’o zelena t
 rava”\,  članova Folklornog ansambla Branko Radičević\,  Centra za kul
 turu Sirmiumart biće održan u petak\,  22. decembra sa početkom u 19 sat
 i u Svečanoj sali Visoke škole strukovnih studija za vaspitače i poslovn
 e informatičare &#8211; Sirmijum u Sremskoj Mitrovici. Raznovrstan izvođa
 čki repertoar\,  prošaran[..]\nhttps://sirmiuminfo.rs/events/godisnji-kon
 cert-folkornog-ansambla-branko-radicevic/
URL:https://sirmiuminfo.rs/events/godisnji-koncert-folkornog-ansambla-branko-radicevic/
END:VEVENT
END:VCALENDAR