BEGIN:VCALENDAR
VERSION:2.0
PRODID:-//eventon.com NONSGML v1.0//EN
CALSCALE:GREGORIAN
METHOD:PUBLISH
BEGIN:VEVENT
UID:69e73435c8ae3
DTSTAMP:20260421T082421Z
DTSTART:20231018T160000Z
DTEND:20231018T170000Z
LOCATION:
SUMMARY:Gluvo doba u nedoba
DESCRIPTION:Biblioteka „Gligorije Vozarović” i Književna zajednica Sr
 emske Mitrovice organizuju promociju knjige „Gluvo doba u nedoba” Sava 
 Božića Ružina\,  u sredu 18. oktobra u Čitaonici Biblioteke sa početko
 m u 18 sati. Zbirka poezije podeljena je u tri celine i predstavlja poetski
  dnevnik\,  ali i autorski pogled na svet koji nas okružuje.[..]\nhttps://
 sirmiuminfo.rs/events/gluvo-doba-u-nedoba/
URL:https://sirmiuminfo.rs/events/gluvo-doba-u-nedoba/
END:VEVENT
END:VCALENDAR