BEGIN:VCALENDAR
VERSION:2.0
PRODID:-//eventon.com NONSGML v1.0//EN
CALSCALE:GREGORIAN
METHOD:PUBLISH
BEGIN:VEVENT
UID:69e6b6d5229d8
DTSTAMP:20260420T232925Z
DTSTART:20230924T140000Z
DTEND:20230924T180000Z
LOCATION:
SUMMARY:Tradicionalni sabor Zmaja od Noćaja
DESCRIPTION:Mesna zajednica Salaš Noćajski uz podršku Grada Sremska Mitr
 ovica\,  u nedelju\,  24. septembra 2023. organizuje 31. Sabor vojvode Stoj
 ana Čupića u porti Hrama u Salašu Noćajskom. Doček gostiju i učesnika
  je u 16 sati\,  podizanje saborske zastave\,  polaganje venaca i parastos 
 16.30 sati\,  viteške igre i izbor Vojvode mačvanskog počinje[..]\nhttps
 ://sirmiuminfo.rs/events/tradicionalni-sabor-zmaja-od-nocaja/
URL:https://sirmiuminfo.rs/events/tradicionalni-sabor-zmaja-od-nocaja/
END:VEVENT
END:VCALENDAR