BEGIN:VCALENDAR
VERSION:2.0
PRODID:-//eventon.com NONSGML v1.0//EN
CALSCALE:GREGORIAN
METHOD:PUBLISH
BEGIN:VEVENT
UID:69e51a5e17cb9
DTSTAMP:20260419T180934Z
DTSTART:20230910T050000Z
DTEND:20230910T070000Z
LOCATION:
SUMMARY:Dečiji dani u Bloku B
DESCRIPTION:Manifestacija „Dečiji dani” održaće se u naselju Blok B\
 ,  u subotu\,  9. septembra 2023. godine. Svečano otvaranje i kulturno-ume
 tnički program počinju u 18 časova.&nbsp; Progam Dečijih dana počinje 
 sportskim aktivnostima u 10 časova\,  nastavljajući se kreativnim radioni
 cama\,  predstavama i bioskopom na otvorenom koji će se održati u okviru 
 ove manifestacije\, [..]\nhttps://sirmiuminfo.rs/events/deciji-dani-u-bloku
 -b/
URL:https://sirmiuminfo.rs/events/deciji-dani-u-bloku-b/
END:VEVENT
END:VCALENDAR