BEGIN:VCALENDAR
VERSION:2.0
PRODID:-//eventon.com NONSGML v1.0//EN
CALSCALE:GREGORIAN
METHOD:PUBLISH
BEGIN:VEVENT
UID:69e74541390be
DTSTAMP:20260421T093705Z
DTSTART:20230926T060000Z
DTEND:20230926T070000Z
LOCATION:
SUMMARY:Smotra likovnog stvaralaštva grada
DESCRIPTION:Ustanova za negovanje kulture „Srem” organizuje 20. Smotru 
 likovnog stvaralaštva grada Sremska Mitrovica\,  od 25. septembra do 4. ok
 tobra 2023. godine\,  u Galeriji „Lazar Vozarević” Otvaranje Izložbe 
 je 25. septembra 2023. godine u 19 sati\,  u Galeriji „Lazar Vozarević
 \,  u Sremskoj Mitrovici.\nhttps://sirmiuminfo.rs/events/prijavi-se-za-smo
 tru-likovnog-stvaralastva-grada/
URL:https://sirmiuminfo.rs/events/prijavi-se-za-smotru-likovnog-stvaralastva-grada/
END:VEVENT
END:VCALENDAR