BEGIN:VCALENDAR
VERSION:2.0
PRODID:-//eventon.com NONSGML v1.0//EN
CALSCALE:GREGORIAN
METHOD:PUBLISH
BEGIN:VEVENT
UID:69e91d840b504
DTSTAMP:20260422T191204Z
DTSTART:20230823T220000Z
DTEND:20230823T233000Z
LOCATION:
SUMMARY:Besplatne turističke ture - Krstarenje rekom Savom
DESCRIPTION:Sremska Mitrovica &#8211; Turistička organizacija grada Sremsk
 a Mitrovica će i ovog meseca organizovati besplatnu turističku i tematsku
  turu po gradu. Ovog puta će se tura održati u subotu\,  26. avgusta 2023
 . sa početkom u 11 časova\,  a tema je krstarenje rekom Savom. Posetioci 
 će imati priliku da upoznaju grad sa[..]\nhttps://sirmiuminfo.rs/events/be
 splatne-turisticke-ture-krstarenje-rekom-savom/
URL:https://sirmiuminfo.rs/events/besplatne-turisticke-ture-krstarenje-rekom-savom/
END:VEVENT
END:VCALENDAR