BEGIN:VCALENDAR
VERSION:2.0
PRODID:-//eventon.com NONSGML v1.0//EN
CALSCALE:GREGORIAN
METHOD:PUBLISH
BEGIN:VEVENT
UID:69e74d8eca288
DTSTAMP:20260421T101230Z
DTSTART:20230630T060000Z
DTEND:20230630T070000Z
LOCATION:
SUMMARY:Promocija dve zbirke pesama
DESCRIPTION:Promocija dve zbirke pesama\nhttps://sirmiuminfo.rs/events/prom
 ocija-dve-zbirke-pesama/
URL:https://sirmiuminfo.rs/events/promocija-dve-zbirke-pesama/
END:VEVENT
END:VCALENDAR