BEGIN:VCALENDAR
VERSION:2.0
PRODID:-//eventon.com NONSGML v1.0//EN
CALSCALE:GREGORIAN
METHOD:PUBLISH
BEGIN:VEVENT
UID:69eb24b07c2a5
DTSTAMP:20260424T080712Z
DTSTART:20230518T060000Z
DTEND:20230518T070000Z
LOCATION:
SUMMARY:Veče nostalgije i sevdalinke
DESCRIPTION:U organizaciji Centra za kulturu „Sirmijumart”\,  u sredu\,
   17. maja u prostoru potkrovlja Galerije „Lazar Vozarević” u Sremskoj
  Mitrovici sa početkom u 19 sati biće održano „Veče nostalgije i sevd
 alinke”. Drago Samardžija (gitara) izvešće sevdalinke i svoje autorske
  pesme. Samardžija je rođen 1954. godine u Sanskom Mostu\,  gradu na šes
 t[..]\nhttps://sirmiuminfo.rs/events/vece-nostalgije-i-sevdalinke/
URL:https://sirmiuminfo.rs/events/vece-nostalgije-i-sevdalinke/
END:VEVENT
END:VCALENDAR