BEGIN:VCALENDAR
VERSION:2.0
PRODID:-//eventon.com NONSGML v1.0//EN
CALSCALE:GREGORIAN
METHOD:PUBLISH
BEGIN:VEVENT
UID:69ead2786bdb5
DTSTAMP:20260424T021624Z
DTSTART:20230517T050000Z
DTEND:20230517T060000Z
LOCATION:
SUMMARY:Poema o Martincima
DESCRIPTION:Biblioteka „Gligorije Vozarović” organizuje promociju knji
 ge&nbsp;„Poema o Martincima”&nbsp;zavičajnog autora Radoslava Šumarsk
 og u utorak\,  16. maja 2023. godine u 18 sati. Program će se održati u p
 oslovnom objektu Autoservisa Mercedes &#8211; Benz u Martincima. U programu
  učestvuju: Radoslav Šumarski\,  autor; Rada Đurić\,  novinar; dr Marij
 a Mandić\,  recenzent; Stefan Nedić\,  veroučitelj; Moravka[..]\nhttps:/
 /sirmiuminfo.rs/events/poema-o-martincima/
URL:https://sirmiuminfo.rs/events/poema-o-martincima/
END:VEVENT
END:VCALENDAR