BEGIN:VCALENDAR
VERSION:2.0
PRODID:-//eventon.com NONSGML v1.0//EN
CALSCALE:GREGORIAN
METHOD:PUBLISH
BEGIN:VEVENT
UID:69ebe11874b3d
DTSTAMP:20260424T213104Z
DTSTART:20191209T190000Z
DTEND:20191209T203000Z
LOCATION:Pozorište Dobrica Milutinović Vuka Karadžića 1\,  Sremska Mitrovica 321042\,  Serbia
SUMMARY:Državni Posao - Velika Reforma
DESCRIPTION:Popularni novosadski trio će  nastupiti pred beogradskom publ
 ikom sa predstavom &#8220;Velika reforma&#8221;. Dejan\,  Dimitrije i Nikol
 a će osim redovnog TV serijala\,  ponovo zabavljati publiku širom sveta s
 vojim živim nastupima.\nhttps://sirmiuminfo.rs/events/drzavni-posao-velika
 -reforma/
URL:https://sirmiuminfo.rs/events/drzavni-posao-velika-reforma/
END:VEVENT
END:VCALENDAR