BEGIN:VCALENDAR
VERSION:2.0
PRODID:-//eventon.com NONSGML v1.0//EN
CALSCALE:GREGORIAN
METHOD:PUBLISH
BEGIN:VEVENT
UID:69e738b75f01f
DTSTAMP:20260421T084335Z
DTSTART:20220512T180000Z
DTEND:20220512T190000Z
LOCATION:
SUMMARY:Noć u kući gospodina Kolaka | Predstava
DESCRIPTION:Noć u kući gospodina Kolaka Četvrtak\,  12. maj 2022. od 20 
 sati Velika scena Pozorišta „Dobrica Milutinović” Cena ulaznice: 800 
 din Informacije i rezervacije ulaznica: 022/615-115 Ulaznice za predstavu 
 Noć u kući gospodina Kolaka” su u prodaji od 4. maja\,  Pisac: Vladim
 ir Đurđević Režija: Irfan Mensur Igraju: Slobodan Boda Ninković\, [..]
 \nhttps://sirmiuminfo.rs/events/noc-u-kuci-gospodina-kolaka-predstava/
URL:https://sirmiuminfo.rs/events/noc-u-kuci-gospodina-kolaka-predstava/
END:VEVENT
END:VCALENDAR