BEGIN:VCALENDAR
VERSION:2.0
PRODID:-//eventon.com NONSGML v1.0//EN
CALSCALE:GREGORIAN
METHOD:PUBLISH
BEGIN:VEVENT
UID:69eb3bef19879
DTSTAMP:20260424T094623Z
DTSTART:20220430T090000Z
DTEND:20220430T160000Z
LOCATION:
SUMMARY:BASKET 3x3 TURNIR NA GRADSKOM TRGU
DESCRIPTION:Sportski savez Grada Sremska Mitrovica i gradski košarki savez
  u saradnji sa Košarkaškim savezom Srbije\,  organizuju u subotu 30. apri
 la veliki „RODA 3&#215;3 BASKET” turnir\,  prvi u ovogodišnjoj seriji 
 turnira Srbije. Najbolji basketaši od 11 časova na Trgu Ćire Milekića b
 oriće se za vredne novčane nagrade\,  ali i prestiž &#8211;[..]\nhttps:/
 /sirmiuminfo.rs/events/basket-3x3-turnir-na-gradskom-trgu/
URL:https://sirmiuminfo.rs/events/basket-3x3-turnir-na-gradskom-trgu/
END:VEVENT
END:VCALENDAR