BEGIN:VCALENDAR
VERSION:2.0
PRODID:-//eventon.com NONSGML v1.0//EN
CALSCALE:GREGORIAN
METHOD:PUBLISH
BEGIN:VEVENT
UID:69e4c4ec503b0
DTSTAMP:20260419T120500Z
DTSTART:20220115T110000Z
DTEND:20220115T120000Z
LOCATION:
SUMMARY:Crvenkapa i zbunjeni vuk u novogodišnjoj avanturi | predstava za decu
DESCRIPTION:„Crvenkapa i zbunjeni vuk u novogodišnjoj avanturi” Subota
  15. januar 2022. godine u 12 sati Ulaz: 350 dinara Informacije i rezervaci
 je: 615-115 Produkcija: teatar „Gartel” Sremska Mitrovica Tekst: Rade P
 avelkić Režija : Gordana Lukić Igraju: Nikola Janošević\,  Nataša Sek
 ulić\,  Nikolina Panić\,  Aleksandar Krstajić\,  Gordana Lukić Jedan zb
 unjeni vuk pobegao je[..]\nhttps://sirmiuminfo.rs/events/crvenkapa-i-zbunje
 ni-vuk-u-novogodisnjoj-avanturi-predstava-za-decu/
URL:https://sirmiuminfo.rs/events/crvenkapa-i-zbunjeni-vuk-u-novogodisnjoj-avanturi-predstava-za-decu/
END:VEVENT
END:VCALENDAR