BEGIN:VCALENDAR
VERSION:2.0
PRODID:-//eventon.com NONSGML v1.0//EN
CALSCALE:GREGORIAN
METHOD:PUBLISH
BEGIN:VEVENT
UID:69e8d65314939
DTSTAMP:20260422T140819Z
DTSTART:20220110
DTEND:20220111
LOCATION:
SUMMARY:Sing 2; Matrix 4; Venom 2; Spiderman | projekcije filmova
DESCRIPTION:Velika scena Pozorišta &#8220;Dobrica Milutinović&#8221; Pone
 deljak 10. januar 2022. 17:00 &#8211; Sing 2 20:00 &#8211; Venom 2 Utorak 1
 1. januar 2022. 17:00 &#8211; Sing 2 20:00 &#8211; Spiderman: No Way Home S
 reda 12. januar 2022. 17:00 &#8211; Sing 2 20:00 &#8211; Matrix 4 Ulaz: 350
  dinara Karte za filmove se[..]\nhttps://sirmiuminfo.rs/events/sing-2-matri
 x-4-venom-2-spiderman-projekcije-filmova/
URL:https://sirmiuminfo.rs/events/sing-2-matrix-4-venom-2-spiderman-projekcije-filmova/
END:VEVENT
END:VCALENDAR