BEGIN:VCALENDAR
VERSION:2.0
PRODID:-//eventon.com NONSGML v1.0//EN
CALSCALE:GREGORIAN
METHOD:PUBLISH
BEGIN:VEVENT
UID:69ec2d50e51a2
DTSTAMP:20260425T025616Z
DTSTART:20211010T130000Z
DTEND:20211010T144500Z
LOCATION:
SUMMARY:Fudbaleri Radničkog u nedelju dočekuju ekipu Kabela iz Novog Sada.
DESCRIPTION:Sremska Mitrovica. Fudbaleri Radničkog  u okviru 12. kola Prv
 e lige Srbije dočekaće ekipu Fudbalskog kluba „Kabel” iz Novog Sada. 
 Utakmica će se odigrati u nedelju\,  10. oktobra na stadionu Fudbalskog k
 luba „Radnički” sa početkom u 15 sati.\nhttps://sirmiuminfo.rs/events
 /fudbaleri-radnickog-u-nedelju-docekuju-ekipu-kabela-iz-novog-sada/
URL:https://sirmiuminfo.rs/events/fudbaleri-radnickog-u-nedelju-docekuju-ekipu-kabela-iz-novog-sada/
END:VEVENT
END:VCALENDAR