BEGIN:VCALENDAR
VERSION:2.0
PRODID:-//eventon.com NONSGML v1.0//EN
CALSCALE:GREGORIAN
METHOD:PUBLISH
BEGIN:VEVENT
UID:69e9d7e714b0f
DTSTAMP:20260423T082719Z
DTSTART:20210801T090000Z
DTEND:20210801T140000Z
LOCATION:
SUMMARY:Plivački maraton Jarak – Šabac
DESCRIPTION:Jarak &#8211; Tradicionalni Plivački maraton Jarak – Šabac 
 biće održan u nedelju\,  1. avgusta. Start trke je u 11 sati ispred Lova
 kog doma u Jarku.  Staza maratona je duga 18\, 8 kilometara. Start je u J
 arku\,  a cilj na gradskoj plaži u Šapcu. Najboljima će pripasti prigodn
 e nagrade.  Maraton je poznat[..]\nhttps://sirmiuminfo.rs/events/plivacki-
 maraton-jarak-sabac/
URL:https://sirmiuminfo.rs/events/plivacki-maraton-jarak-sabac/
END:VEVENT
END:VCALENDAR