BEGIN:VCALENDAR
VERSION:2.0
PRODID:-//eventon.com NONSGML v1.0//EN
CALSCALE:GREGORIAN
METHOD:PUBLISH
BEGIN:VEVENT
UID:69ecb6cc3755c
DTSTAMP:20260425T124252Z
DTSTART:20210630T180000Z
DTEND:20210630T193000Z
LOCATION:
SUMMARY:GORAN VINČIĆ: DEŽURNI KRIVAC | STAND UP COMEDY SHOW
DESCRIPTION:Sremska Mitrovica &#8211; U sredu\,  30. juna sa početkom u 20
  sati na Velikoj sceni Pozorišta „Dobrica Milutinović” biće izveden 
 stand up show Gorana Vinčića. Cena ulaznice je 500 dinara. Informacije: 0
 22/615-115. Set sastavljen od najboljih fora zaokruženih u celinu ispriča
 će u sat i po vremena\,  ali je ostavio mesta[..]\nhttps://sirmiuminfo.rs/
 events/goran-vincic-dezurni-krivac-stand-up-comedy-show/
URL:https://sirmiuminfo.rs/events/goran-vincic-dezurni-krivac-stand-up-comedy-show/
END:VEVENT
END:VCALENDAR